BEGIN:VCALENDAR
VERSION:2.0
PRODID:-//eventon.com NONSGML v1.0//EN
BEGIN:VEVENT
UID:69e622f526107
DTSTAMP:20260420T085829
DTSTART:20241107T220000Z
DTEND:20241108T010000Z
LOCATION:
SUMMARY:Marty Attridge
DESCRIPTION: Marty Attridge
END:VEVENT
END:VCALENDAR